BEGIN:VCALENDAR
VERSION:2.0
PRODID:-//Cámara de Comercio de Murcia - ECPv4.8.2//NONSGML v1.0//EN
CALSCALE:GREGORIAN
METHOD:PUBLISH
X-WR-CALNAME:Cámara de Comercio de Murcia
X-ORIGINAL-URL:https://www.camaramurcia.es
X-WR-CALDESC:Eventos para Cámara de Comercio de Murcia
BEGIN:VEVENT
DTSTART;VALUE=DATE:20250406
DTEND;VALUE=DATE:20250410
DTSTAMP:20260421T154624
CREATED:20250407T103917Z
LAST-MODIFIED:20250407T112220Z
UID:67587-1743897600-1744243199@www.camaramurcia.es
SUMMARY:Oficina Acelera Pyme | Inteligencia Artificial potenciando la gestión comercial  | Kit Digital
DESCRIPTION:El jueves 10 de abril\, desde Cámara de Comercio de Murcia en el marco de la Oficina Acelera Pyme\, le invitamos a participar en un seminario donde conocerá cómo puede potenciar su gestión comercial con la ayuda de la Inteligencia Artificial\, poniéndose al día con los retos que van surgiendo hoy en día y cómo conseguir esa transformación digital en la función comercial. \nCONTENIDO \n\nEl Nuevo Paradigma Comercial\nDe la intuición a los datos: la evolución de la función comercial\nLos retos actuales en la gestión comercial\nEl CRM como piedra angular de la digitalización comercial\nCómo la IA potencia la gestión comercial\nLa urgencia de la transformación digital\, CRM first\nCómo empezar: primeros pasos hacia la integración de IA en la función comercial\nLa importancia de la persona\, la IH\nConclusión: Adaptarse o quedar atrás\nCasos de Éxito\nQ&A\nConclusión y llamado a la acción\n\nPodrá asistir de forma presencial\, en la Cámara de Comercio de Murcia; o seguirlo online en directo a través de Zoom\, previa inscripción. \ninscripción | Inteligencia Artificial en la gestión comercial| Kit Digital \nmás información | Inteligencia Artificial en la gestión comercial | Kit Digital \n
URL:https://www.camaramurcia.es/evento/oficina-acelera-pyme-inteligencia-artificial-potenciando-la-gestion-comercial-kit-digital/
LOCATION:Oficina Acelera Pyme | Cámara de Comercio de Murcia\, Plaza de San Bartolomé\, nº 3\, Murcia\, Murcia\, 30004\, Spain
CATEGORIES:Agenda,Oficina Acelera Pyme
ATTACH;FMTTYPE=image/jpeg:https://www.camaramurcia.es/wp-content/uploads/2025/04/seminariowebinar-Inteligencia-artificial-gestion-comercial-Camara-Comercio-Murcia-Oficina-Acelera-Pyme2.jpg
ORGANIZER;CN="C%C3%A1mara%20de%20Comercio%20de%20Murcia%20%7C%20Oficina%20Acelera%20Pyme%20%7C%20Andr%C3%A9s%20Caballero":MAILTO:oficinaacelerapyme@camaramurcia.es
END:VEVENT
END:VCALENDAR