BEGIN:VCALENDAR
VERSION:2.0
PRODID:-//Cámara de Comercio de Murcia - ECPv4.8.2//NONSGML v1.0//EN
CALSCALE:GREGORIAN
METHOD:PUBLISH
X-WR-CALNAME:Cámara de Comercio de Murcia
X-ORIGINAL-URL:https://www.camaramurcia.es
X-WR-CALDESC:Eventos para Cámara de Comercio de Murcia
BEGIN:VEVENT
DTSTART;VALUE=DATE:20250327
DTEND;VALUE=DATE:20250328
DTSTAMP:20260420T214531
CREATED:20250324T083829Z
LAST-MODIFIED:20250324T083842Z
UID:67148-1743033600-1743119999@www.camaramurcia.es
SUMMARY:Oficina Acelera Pyme | Inteligencia Artificial en gestión de almacenes | Kit Digital
DESCRIPTION:El jueves 27 de marzo\, desde Cámara de Comercio de Murcia en el marco de la Oficina Acelera Pyme\, le invitamos a participar en un seminario donde conocerá cómo optimizar el tiempo en el sector de la logística y la gestión de almacenes con la ayuda de la Inteligencia Artificial. \nCONTENIDO \n\nIntroducción a la IA en gestión de almacenes\nPlanificación inteligente de turnos y recursos humanos\nOrganización de llegadas y descargas de mercancía\nIA para planificación de equipos de descarga y carga\nPredicción y gestión del espacio en el almacén\nEstimación de tiempos de descarga/recepción de Mercancía\nAutomatización de escaneo y registro de documentos\nPlanificación inteligente del Picking\nOptimización de la operativa de ensamblado y preparación de Pedidos\nPlanificación de cargas y Rutas de Salida\nOptimización de la gestión de flotas y turnos de camiones\nAnálisis y predicción de stock con IA\nFormularios y checklists automatizados de control y seguridad\nAsistentes virtuales y chatbots para consultas normativas y procedimientos\n\nPodrá asistir de forma presencial\, en la Cámara de Comercio de Murcia; o seguirlo online en directo a través de Zoom\, previa inscripción. \ninscripción | Inteligencia Artificial en gestión de almacenes| Kit Digital \nmás información | Inteligencia Artificial en gestión de almacenes | Kit Digital \n
URL:https://www.camaramurcia.es/evento/oficina-acelera-pyme-inteligencia-artificial-en-gestion-de-almacenes-kit-digital/
LOCATION:Oficina Acelera Pyme | Cámara de Comercio de Murcia\, Plaza de San Bartolomé\, nº 3\, Murcia\, Murcia\, 30004\, Spain
CATEGORIES:Agenda,Oficina Acelera Pyme
ATTACH;FMTTYPE=image/jpeg:https://www.camaramurcia.es/wp-content/uploads/2025/03/seminariowebinar-Inteligencia-artificial-gestion-almacenes-Camara-Comercio-Murcia-Oficina-Acelera-Pyme3.jpg
ORGANIZER;CN="C%C3%A1mara%20de%20Comercio%20de%20Murcia%20%7C%20Oficina%20Acelera%20Pyme%20%7C%20Andr%C3%A9s%20Caballero":MAILTO:oficinaacelerapyme@camaramurcia.es
END:VEVENT
END:VCALENDAR