BEGIN:VCALENDAR
VERSION:2.0
PRODID:-//Cámara de Comercio de Murcia - ECPv4.8.2//NONSGML v1.0//EN
CALSCALE:GREGORIAN
METHOD:PUBLISH
X-WR-CALNAME:Cámara de Comercio de Murcia
X-ORIGINAL-URL:https://www.camaramurcia.es
X-WR-CALDESC:Eventos para Cámara de Comercio de Murcia
BEGIN:VEVENT
DTSTART;VALUE=DATE:20240614
DTEND;VALUE=DATE:20241101
DTSTAMP:20260423T080711
CREATED:20240729T074749Z
LAST-MODIFIED:20241021T104023Z
UID:62299-1718323200-1730419199@www.camaramurcia.es
SUMMARY:Programa de ayudas| Puesto de trabajo seguro | Kit Digital
DESCRIPTION:Se amplía la cuantía de ayuda para autónomos y microempresas de menos de 3 trabajadores\, pasando de 2.000 a 3.000 euros de bono digital. \nEn esta nueva categoría puede solicitar un dispositivo hardware (ordenador portatil o de sobremesa)\, por una cuantía de 1.000 euros\, siendo un dispositivo nuevo y que cumpla con determinadas características en cuanto a procesador\, rendimiento\, memoria RAM\, almacenamiento\, tarjeta gráfica\, entre otras. \nLa solución de Puesto de Trabajo Seguro no podrá solicitarse de manera independiente\, sino que se debería complementar con otra de las diferentes soluciones que aparecen en el catálogo. \nLos autónomos o empresas que ya hayan disfrutado de la ayuda de los 2.000 euros\, podrán ampliar con esta cuantía adicional de 1.000 euros entrando en su expediente en la sede electrónica de Red.es\, seleccionando el botón habilitado para ello y firmando la conformidad. En este caso la concesión es automática. \nLa petición de dicha ayuda\, podrá solicitarse hasta el 31 de octubre de 2025. \nSi desea información adicional\, le podemos asesorar desde la Oficina Acelera Pyme de la Cámara de Comercio de Murcia. Nos puede localizar en el 968229456 y en el 968229404. \nMás información | Programa de Ayudas | Kit Digital \n
URL:https://www.camaramurcia.es/evento/programa-de-ayudas-puesto-de-trabajo-seguro-kit-digital/
LOCATION:Oficina Acelera Pyme | Cámara de Comercio de Murcia\, Plaza de San Bartolomé\, nº 3\, Murcia\, Murcia\, 30004\, Spain
CATEGORIES:Agenda,Oficina Acelera Pyme
ATTACH;FMTTYPE=image/jpeg:https://www.camaramurcia.es/wp-content/uploads/2024/07/autonomos-micropymes-Kit-Digital-programa-ayudas-Oficina-Acelera-Pyme-Camara-Comercio-Murcia-segmento-3-0-3trabajadores2.jpg
ORGANIZER;CN="C%C3%A1mara%20de%20Comercio%20de%20Murcia%20%7C%20Oficina%20Acelera%20Pyme%20%7C%20Andr%C3%A9s%20Caballero":MAILTO:oficinaacelerapyme@camaramurcia.es
END:VEVENT
BEGIN:VEVENT
DTSTART;VALUE=DATE:20240623
DTEND;VALUE=DATE:20240624
DTSTAMP:20260423T080711
CREATED:20240610T114743Z
LAST-MODIFIED:20240624T075558Z
UID:61156-1719100800-1719187199@www.camaramurcia.es
SUMMARY:Kit Digital | Nueva categoría y ampliación de cuantía del "bono digital"
DESCRIPTION:¡Ampliación de la cuantía para autónomos y empresas de\nmenos de 3 empleados! \nSe ha ampliado la cuantía de la ayuda para autónomos y microempresas de menos de 3 empleados  en el marco del Programa Kit Digital\, que se queda en una cuantía de 3.000 euros.\n \nPodrán solicitar esta ampliación\, aquellas empresas que ya han sido beneficiarias del segmento III\, o que ya hayan consumido su bono digital\, a partir de la publicación de la convocatoria este mes de junio de 2024. \nEsta nueva categoría que se ha incluido en nueva modificación de las bases reguladoras del Programa Kit Digital\, incluye un dispositivo hardware\, un ordenador portátil o de sobremesa nuevo. \nLa cuantía máxima subvencionable para esta solución es de 1.000 euros\, siendo subvencionables ordenadores portátiles u ordenadores de sobremesa nuevos\, que deberán cumplir unos requisitos mínimos en cuanto a almacenamiento\, procesador\, memoria RAM\, sistema operativo\, entre otros requisitos que recoge al completo en la página 38 la Orden de Bases que puedes consultar en este enlace. \nLas empresas y profesionales del segmento III a quien se les conceda esta ayuda primera vez y que quieran implantar la solución de Puesto de Trabajo Seguro\, deberán combinarla con otra solución adicional de las que incluye el catálogo. \nAquellas empresas que ya han sido beneficiarias del Kit Digital en este segmento\, podrá solicitar esta cuantía adicional de 1.000 euros\, entrando en su expediente en la sede electrónica de Red.es\, seleccionando el botón habilitado para ello y firmando la conformidad. En este caso la concesión es automática. \nMás información | Programa de Ayudas | Kit Digital \n
URL:https://www.camaramurcia.es/evento/kit-digital-nueva-categoria-y-ampliacion-de-cuantia-del-bono-digital/
LOCATION:Oficina Acelera Pyme | Cámara de Comercio de Murcia\, Plaza de San Bartolomé\, nº 3\, Murcia\, Murcia\, 30004\, Spain
CATEGORIES:Agenda,Oficina Acelera Pyme
ATTACH;FMTTYPE=image/jpeg:https://www.camaramurcia.es/wp-content/uploads/2024/06/2024-ampliacion-cuantia-autónomos-y-micropymes-Programas-de-ayudas-Kit-Digital-Oficinas-Acelera-Pyme-segmento-II.jpg
ORGANIZER;CN="C%C3%A1mara%20de%20Comercio%20de%20Murcia%20%7C%20Oficina%20Acelera%20Pyme%20%7C%20Andr%C3%A9s%20Caballero":MAILTO:oficinaacelerapyme@camaramurcia.es
END:VEVENT
END:VCALENDAR