BEGIN:VCALENDAR
VERSION:2.0
PRODID:-//Cámara de Comercio de Murcia - ECPv4.8.2//NONSGML v1.0//EN
CALSCALE:GREGORIAN
METHOD:PUBLISH
X-WR-CALNAME:Cámara de Comercio de Murcia
X-ORIGINAL-URL:https://www.camaramurcia.es
X-WR-CALDESC:Eventos para Cámara de Comercio de Murcia
BEGIN:VEVENT
DTSTART;VALUE=DATE:20240612
DTEND;VALUE=DATE:20240613
DTSTAMP:20260422T122650
CREATED:20240606T070003Z
LAST-MODIFIED:20240610T062434Z
UID:61061-1718150400-1718236799@www.camaramurcia.es
SUMMARY:Oficina Acelera Pyme | Aplicaciones y usos de escaner de producto en tu empresa | Kit Digital
DESCRIPTION:En el marco de la Oficina Acelera Pyme\, la Cámara de Comercio de Murcia le invita\, el próximo miércoles 12 de junio\, a un seminario donde conocerá las aplicaciones y usos que puede utilizar en su empresa de un escáner de producto\, presentes en sistemas IOS y Android.\n \nPodrá crear modelos tridimensionales de sus productos y digitalizarlos con el fin de mejorar la presentación de sus productos\, mostrandolos de manera detallada para evitar devoluciones y mejorar la competitividad de su empresa. \nPodrá asistir de forma online en directo a través de la plataforma Zoom\, o de manera presencial en el espacio de Coworking Digital (miitUp – C/ Frutos Baeza\, 3 de la Cámara de Comercio de Murcia. \nMás información | Aplicaciones y usos de escaner de producto en tu empresa | Kit Digital \n
URL:https://www.camaramurcia.es/evento/oficina-acelera-pyme-aplicaciones-y-usos-de-escaner-de-producto-en-tu-empresa-kit-digital/
LOCATION:Oficina Acelera Pyme | Cámara de Comercio de Murcia\, Plaza de San Bartolomé\, nº 3\, Murcia\, Murcia\, 30004\, Spain
CATEGORIES:Agenda,Oficina Acelera Pyme
ATTACH;FMTTYPE=image/jpeg:https://www.camaramurcia.es/wp-content/uploads/2024/06/seminario-ESCANER-realidad-virtual-aumentada-camara-comercio-murcia-oficina-acelera-pyme1.jpg
ORGANIZER;CN="C%C3%A1mara%20de%20Comercio%20de%20Murcia%20%7C%20Oficina%20Acelera%20Pyme%20%7C%20Andr%C3%A9s%20Caballero":MAILTO:oficinaacelerapyme@camaramurcia.es
END:VEVENT
END:VCALENDAR