BEGIN:VCALENDAR
VERSION:2.0
PRODID:-//Cámara de Comercio de Murcia - ECPv4.8.2//NONSGML v1.0//EN
CALSCALE:GREGORIAN
METHOD:PUBLISH
X-WR-CALNAME:Cámara de Comercio de Murcia
X-ORIGINAL-URL:https://www.camaramurcia.es
X-WR-CALDESC:Eventos para Cámara de Comercio de Murcia
BEGIN:VEVENT
DTSTART;VALUE=DATE:20260922
DTEND;VALUE=DATE:20260925
DTSTAMP:20260422T050654
CREATED:20260122T135217Z
LAST-MODIFIED:20260326T114421Z
UID:74575-1790035200-1790294399@www.camaramurcia.es
SUMMARY:Feria Sahara Expo 2026 - Egipto. Tecnología agrícola
DESCRIPTION:Ya está abierta la convocatoria para la participación en la feria Sahara Expo en El Cairo. \nDirigido a: empresas del sector de tecnología agrícola. \nPlazo de manifestación de interés: hasta el 30 de abril de 2026. \nPor qué es interesante: \n\n\n    Egipto\n    \n        \nEgipto posee recursos que permiten que la productividad agrícola sea alta\, particularmente la fertilidad de la tierra. El sector agrícola se mantiene fuerte incluso durante las crisis económicas\, siendo el principal productor en el Norte de África de cereales\, frutas y hortalizas. Es uno de los principales productores mundiales de frutas y verduras\, y el país más exportador de cítricos y fresas congeladas. Según datos del Banco Mundial se prevé un crecimiento del PIB de un 4\,3% en 2026 y un 4\,8% en 2027. \nCon una población de más de 110 millones de habitantes y un sector agrícola que representa el 11 % del PIB\, es un importador neto de maquinaria agrícola\, con compras anuales cercanas a los 1.000 MUSD. A pesar de que el 27 % de su fuerza laboral trabaja en la agricultura\, solo el 3 % del territorio es cultivable\, concentrándose en la cuenca del Nilo\, donde se logran varias cosechas al año. La dependencia casi total del agua del Nilo y la necesidad de mejorar la eficiencia productiva están impulsando la modernización del sector. \nFicha país Egipto 2025 \nFicha sector. Maquinaria y tecnología agrícola en Egipto 2024. ICEX \n\n        \n    \n\n\n    Feria Sahara Expo\n    \n        \nSahara Expo celebra la 38ª edición. Es una feria de visita obligada para todo el mercado nacional\, ya que proporciona a los fabricantes y comerciantes regionales una oportunidad única de llevar a cabo ventas y explorar nuevas oportunidades de negocio. Se celebra en el Egypt International Exhibition Center (EIEC) ocupando unos 25.000 m2. Sahara Expo ha acogido a  expositores y visitantes de 30 países y tuvo casi 23.000 asistentes en la edición del año pasado. \n\n        \n    \n\n\n\n\nCondiciones de participación\n  \nLa participación es susceptible de ser cofinanciada con fondos FEDER /INFO. En ese caso\, la cuota de participación sería de 3.375€ +IVA (importe con la ayuda incluida). Esta cuota incluye: \n\nEspacio de aproximadamente 11 metros cuadrados\, incluyendo suelo\, diseño y decoración\, mobiliario\, montaje y desmontaje del stand. Limpieza a la entrega del stand.\nInscripción en el catálogo de expositores de la feria.\nAlojamiento durante los días del evento en un hotel seleccionado por la organización.\nAsistencia durante el desarrollo de la feria por parte de un técnico de la Cámara de Comercio de Murcia.\n\nTrámites y requisitos: En caso de estar interesado o querer más información\, rellenar el formulario de más abajo antes del 30 de abril de 2026. \nInteresado Feria Sahara Expo 2026Nombre *  Empresa interesada Feria Sahara Expo 2026 *  Correo electrónico *  Teléfono *      Acepto la política de privacidad  *     He leído y acepto las condiciones de participación  *   \n
URL:https://www.camaramurcia.es/evento/ext1-feria-sahara-expo-2026-egipto/
LOCATION:Egipto\, El Cairo\, Egypt
CATEGORIES:Agenda,Exterior
ATTACH;FMTTYPE=image/jpeg:https://www.camaramurcia.es/wp-content/uploads/2026/01/Sahara-Expo-2026.jpg
ORGANIZER;CN="C%C3%A1mara%20de%20Comercio%20Murcia%20-%20Comercio%20Exterior%20-%20Leonardo%20P%C3%A9rez":MAILTO:lperez@camaramurcia.es
END:VEVENT
END:VCALENDAR