BEGIN:VCALENDAR
VERSION:2.0
PRODID:-//Cámara de Comercio de Murcia - ECPv4.8.2//NONSGML v1.0//EN
CALSCALE:GREGORIAN
METHOD:PUBLISH
X-WR-CALNAME:Cámara de Comercio de Murcia
X-ORIGINAL-URL:https://www.camaramurcia.es
X-WR-CALDESC:Eventos para Cámara de Comercio de Murcia
BEGIN:VEVENT
DTSTART;VALUE=DATE:20251117
DTEND;VALUE=DATE:20251122
DTSTAMP:20260421T023448
CREATED:20250721T105813Z
LAST-MODIFIED:20251020T105214Z
UID:70643-1763337600-1763769599@www.camaramurcia.es
SUMMARY:Misión comercial directa a Ghana y Costa de Marfil 2025. Plurisectorial
DESCRIPTION:Ya está abierta la convocatoria para participar en la misión comercial a Ghana y Costa de Marfil. No es obligatorio visitar todos los países. \nCiudades: Abiyan (Costa de Marfil) del 17 al 19 de noviembre. Accra (Ghana) del 20 al 21 de noviembre. En función de la agenda de reuniones\, puede visitarse alguna otra ciudad de estos países distintas de las capitales económicas. \nPlazo manifestación interés: hasta el 12 de septiembre de 2025. \nPlurisectorial. Sectores recomendados: alimentación y bebidas\, agroindustria\, maquinaria y bienes de equipo\, materiales de construcción\, infraestructuras y saneamiento\, sector sanitario\, bienes de consumo\, material eléctrico y aparatos mecánicos… Otros sectores consultar con la organización. \nPor qué es interesante \n\n\n    Ghana\n    \n        \nGhana\, con una población de 34\,4 millones (Bco.Mundial). Es uno de los países más estables del África Occidental\, con un crecimiento económico sostenible con un PIB por encima del 5% anual y una clase media emergente. \nEn virtud del acuerdo UE-Ghana\, Ghana se compromete a reducir progresivamente sus aranceles a cero para el 78% de sus importaciones de la UE para 2029. \nInforme Económico y Comercial Ghana\, Julio 2025. \n\n        \n    \n\n\n    Costa de Marfil\n    \n        \nCosta de Marfil\, con una población de 31\,2 millores (Bco.Mundial). Cuenta con una estabilidad económica y un crecimiento del 6\,5%. \nEstabilidad política duradera e implantación de políticas para atraer la inversión\,  les permite estar viviendo desde hace una década un crecimiento industrial muy importante que lo ha situado como una referencia en la zona de África Occidental. \nEl puerto de Abiyán es clave para el comercio regional\, acceso a países sin litoral. \nInforme Económico y Comercial Costa de Marfil 2023. \n\n        \n    \n\n\n\n\nCondiciones de participación\n  \nLa participación es susceptible de ser cofinanciada con fondos FEDER para PYMES de la Región de Murcia. En ese caso\, la cuota si se participa en dos países es de 2.075 € + IVA del coste de participación. Y si se participa sólo en Costa de Marfil: 1425 € + IVA del coste de participación\, o solo en Ghana: 1.090 € + IVA del coste de participación. Esta cuota incluye: \n\nViaje\, alojamiento\, seguro\, visado\, traslados de entrada y salida de España – Ghana y Costa de Marfil\, de una persona de la empresa.\nCoste de elaboración de la agenda comercial individual.\nAsistencia durante el desarrollo de la actuación por parte de un técnico de la Cámara de Comercio de Murcia.\n\nTrámites y requisitos: En caso de estar interesado o querer más información\, rellenar el formulario de más abajo antes del 12 de septiembre de 2025. \nInteresado Misión Comercial Ghana y Costa de Marfil 2025Nombre *  Empresa interesada en MCD Ghana y Costa de Marfil 2025 *  Correo electrónico *  Teléfono *      Acepto la política de privacidad  *     He leído y acepto las condiciones de participación  *   \n
URL:https://www.camaramurcia.es/evento/ext1-mision-comercial-directa-a-ghana-y-costa-de-marfil-2025/
LOCATION:Ghana\, Accra\, Ghana
CATEGORIES:Agenda,Exterior
ATTACH;FMTTYPE=image/png:https://www.camaramurcia.es/wp-content/uploads/2025/07/Ghana-y-Costa-de-Marfil-MCD.png
ORGANIZER;CN="C%C3%A1mara%20Comercio%20Murcia%20%7C%20Comercio%20Exterior%20%7C%20Bel%C3%A9n%20Romero":MAILTO:Belen.Romero@camaramurcia.es
END:VEVENT
END:VCALENDAR