BEGIN:VCALENDAR
VERSION:2.0
PRODID:-//Cámara de Comercio de Murcia - ECPv4.8.2//NONSGML v1.0//EN
CALSCALE:GREGORIAN
METHOD:PUBLISH
X-WR-CALNAME:Cámara de Comercio de Murcia
X-ORIGINAL-URL:https://www.camaramurcia.es
X-WR-CALDESC:Eventos para Cámara de Comercio de Murcia
BEGIN:VEVENT
DTSTART;VALUE=DATE:20251104
DTEND;VALUE=DATE:20251107
DTSTAMP:20260422T050318
CREATED:20250606T111332Z
LAST-MODIFIED:20251016T093332Z
UID:68137-1762214400-1762473599@www.camaramurcia.es
SUMMARY:Feria Gulfood Manufacturing Dubai 2025. Maquinaria alimentación y bebidas\, envases\, embalajes e ingredientes
DESCRIPTION:Ya está abierta la manifestación de interés para la participación en la feria Gulfood Manufacturing\, dentro del pabellón agrupado\, dividido en stands individuales\, que está siendo organizado por la Cámara de Comercio de Murcia\, en el marco del Plan de Promoción Exterior 2023-27. \nDirigido a: empresas del sector de maquinaria para envasado y procesado de alimentos y bebidas\, envases\, embalajes\, ingredientes y aromas alimentarios. \nCNAEs: 10.3\, 10.8\, 17.2\, 18.1\, 20.1\, 20.5\, 20.6\, 22.1\, 22.2\, 23.1\, 25.1\, 25.2\, 25.3\, 25.6\, 25.7\, 25.9\, 27.1\, 27.2\, 27.9\, 28.1\, 28.2\, 28.3\, 28.4\, 28.9\, 32.9\, 33.1\, 33.2\, 38.2\, 43.2\, 46.1\, 46.6\, 46.7\, 46.9\, 70.2\, 71.1 \n\n\n\n    Por qué es interesante\n    \n        \nGulfood Manufacturing se posiciona como uno de los eventos internacionales más relevantes para la industria de alimentos y bebidas de Middle East\, reuniendo a fabricantes\, expertos en cadena de suministro y líderes en innovación tecnológica. Esta edición 2025 estará enfocada en mostrar soluciones de vanguardia para la transformación de la eficiencia operativa. Este encuentro será un punto de convergencia para las últimas tendencias en desarrollo de la manufactura alimentaria\, diseño sostenible\, tecnologías de precisión\, innovación en ingredientes y estrategias financieras ágiles. \nLa Cámara de comercio de Murcia organiza\, por tercer año consecutivo\, la participación de un grupo de empresas con stands individuales dentro del pabellón de la Región de Murcia. \n\n\n        \n    \n\n \nCondiciones de participación\n  \nQué incluye: stand individual dentro del espacio del pabellón de la Región de Murcia\, diseño\, decoración\, montaje\, desmontaje de stand\, mobiliario\, limpieza a la entrega del stand\, inscripción en el catálogo de expositores y alojamiento de una persona por empresa durante los días de la feria\, en el hotel seleccionado por la organización. \nTrámites y requisitos: Solicitar documentos de pre-inscripción cumplimentando el formulario más abajo. \nPlazo de inscripción: hasta el 8 de septiembre o fin de plazas. \nLa participación es susceptible de ser cofinanciada con fondos FEDER/INFO\, en ese caso la cuota de participación sería: \no             Para stand de 12 metros: 4.180 €/empresa + IVA del coste de participación. \no             Para stand de 9 metros: 3.160 €/empresa + IVA del coste de participación. Stands limitados y sólo para ubicación en Ingredientes. \nSolicitar pre-inscripción Feria Gulfood Manufacturing Dubai 2025Nombre *  Empresa interesada Feria Gulfood Manufacturing 2025 *  Correo electrónico *  Teléfono *      Acepto la política de privacidad  *   \n
URL:https://www.camaramurcia.es/evento/ext1-feria-gulfood-manufacturing-dubai-2025-maquinaria-alimentacion-y-bebidas-envases-embalajes-e-ingredientes/
LOCATION:Dubai\, Dubai\, United Arab Emirates
CATEGORIES:Agenda,Exterior
ATTACH;FMTTYPE=image/png:https://www.camaramurcia.es/wp-content/uploads/2025/04/Feria-Gulfood-Manufacturing-Dubai-2025.png
ORGANIZER;CN="C%C3%A1mara%20Comercio%20Murcia%20%7C%20Comercio%20Exterior%20%7C%20Bel%C3%A9n%20Romero":MAILTO:Belen.Romero@camaramurcia.es
END:VEVENT
END:VCALENDAR