BEGIN:VCALENDAR
VERSION:2.0
PRODID:-//Cámara de Comercio de Murcia - ECPv4.8.2//NONSGML v1.0//EN
CALSCALE:GREGORIAN
METHOD:PUBLISH
X-WR-CALNAME:Cámara de Comercio de Murcia
X-ORIGINAL-URL:https://www.camaramurcia.es
X-WR-CALDESC:Eventos para Cámara de Comercio de Murcia
BEGIN:VEVENT
DTSTART;VALUE=DATE:20241215
DTEND;VALUE=DATE:20241220
DTSTAMP:20260425T032424
CREATED:20240916T120016Z
LAST-MODIFIED:20241211T083804Z
UID:62711-1734220800-1734652799@www.camaramurcia.es
SUMMARY:Misión comercial directa Omán y Emiratos Árabes 2024
DESCRIPTION:Viaje y agendas de entrevistas individuales con empresas de estos mercados. No es obligatorio visitar todos los países. \nCiudades: Mascate del 15 al 16 de diciembre. Dubai del 17 al 19 de diciembre. Otras ciudades\, en función de la agenda de trabajo. \nPlurisectorial. Sectores recomendados: alimentación\, maquinaria y equipos eléctricos\, materiales de construcción (mármoles\, cementos especiales\, piedra natural y productos cerámicos)\, equipos y materiales para manipulado de fluidos\, prendas de punto y confección\, productos farmacéuticos y suministros hospitalarios (incluidas soluciones digitales). En el capítulo de servicios: ingenierías relacionadas con los sectores de la energía y el agua\, servicios del sector salud y gestión de residuos. \nPlazo de inscripción: hasta 3 de octubre o fin de plazas. \nPor qué es interesante: \n\n\n    Omán\n    \n        \nOmán es quizás uno de los países más desconocidos de los que configuran la península arábiga. Sin embargo\, desde hace unos años\, este país monárquico\, con acceso al Estrecho de Ormuz e integrado en el Consejo de Cooperación del Golfo (CCG) –organización constituida en 1981 junto a Arabia Saudí\, Bahréin\, Emiratos Árabes Unidos\, Kuwait y Qatar–\, está acometiendo un proceso de transformación y diversificación económica\, con el fin de reducir su dependencia de la industria de extracción de hidrocarburos\, que corre en paralelo a la implantación de medidas de carácter económico y fiscal con el fin de atraer inversión exterior. \nInforme Económico y Comercial. Omán 2023 \nGuía país. Omán 2023 \n\n        \n    \n\n\n    Emiratos Árabes Unidos\n    \n        \nEAU es una economía muy abierta al exterior y ofrece un régimen comercial muy favorable para los intercambios comerciales\, con unos aranceles bajos (arancel\nexterior común general a casi todos los productos de un 5%)  y una gestión aduanera eficiente. La apertura comercial\, cociente entre la suma de importaciones y 62 exportaciones en relación con el PIB de 2022\, es de un 135\,5%. En cuanto a las importaciones\, éstas aumentaron un 39\,5% en 2022 respecto al año anterior. \nInforme Económico y Comercia. Emiratos Árabes Unidos 2023 \nGuía País. Emiratos Árabes Unidos 2023 \n\n        \n    \n\n\n\n\n  \nDescargar Condiciones de participación\n  \nTrámites y requisitos: Solicitar documentos de pre-inscripción. \nLa participación es susceptible de ser cofinanciada con fondos FEDER /INFO. En ese caso\, el coste con la ayuda incluida sería: \n\nSi participa en los dos países: 1.860 euros más IVA del coste de participación.\nSólo se participa en Omán: 900 euros+ IVA del coste de participación.\nSólo se participa en Emiratos Árabes: 1.375 euros + IVA del coste de participación.\n\nSolicitar pre-inscripción Misión Emiratos Árabes y OmánNombre *  Empresa interesada Emiratos Árabes y Omán *  Correo electrónico *  Teléfono *      Acepto la política de privacidad  *   \n  \n  \n
URL:https://www.camaramurcia.es/evento/ext1-mision-comercial-directa-oman-y-emiratos-arabes-2024/
LOCATION:Emiratos\, Emiratos Arabes Unidos
CATEGORIES:Exterior
ATTACH;FMTTYPE=image/png:https://www.camaramurcia.es/wp-content/uploads/2024/09/Misión-comercial-Omán-y-Emiratos-Árabes.png
ORGANIZER;CN="C%C3%A1mara%20Comercio%20Murcia%20%7C%20Comercio%20Exterior%20%7C%20Bel%C3%A9n%20Romero":MAILTO:Belen.Romero@camaramurcia.es
END:VEVENT
END:VCALENDAR