BEGIN:VCALENDAR
VERSION:2.0
PRODID:-//Cámara de Comercio de Murcia - ECPv4.8.2//NONSGML v1.0//EN
CALSCALE:GREGORIAN
METHOD:PUBLISH
X-WR-CALNAME:Cámara de Comercio de Murcia
X-ORIGINAL-URL:https://www.camaramurcia.es
X-WR-CALDESC:Eventos para Cámara de Comercio de Murcia
BEGIN:VEVENT
DTSTART;VALUE=DATE:20240310
DTEND;VALUE=DATE:20240512
DTSTAMP:20260422T004514
CREATED:20240403T091443Z
LAST-MODIFIED:20240506T071739Z
UID:59362-1710028800-1715471999@www.camaramurcia.es
SUMMARY:Taller de negociación | Presencial | Formación Ejecutiva
DESCRIPTION:\n¡Últimos días de inscipción! \nDesde el departamento de Formación Ejecutiva de la Cámara de Comercio de Murcia\, organizamos una nueva edición del Taller de negociación con el que podrá mejorar sus habilidades y técnicas mediante el estudio de casos reales. \nSe celebrará los próximos 10 y 11 de mayo en el Centro de Formación de la Cámara de Comercio de Murcia. \nEl taller\, que tiene una duración de 10 horas\, es presencial y eminentemente práctico donde se trabajarán las distintas fases de negociación. \n\nAdemás\, es parcialmente bonificable a través de FUNDAE. \n\nMás información | Taller de negociación | presencial \n\n
URL:https://www.camaramurcia.es/evento/taller-de-negociacion-presencial-formacion-ejecutiva/
LOCATION:Cámara de Comercio de Murcia | Formación Ejecutiva\, Plaza de San Bartolomé\, número 3\, Murcia\, Murcia\, 30004\, Spain
CATEGORIES:Agenda,Formación Ejecutiva
ATTACH;FMTTYPE=image/jpeg:https://www.camaramurcia.es/wp-content/uploads/2024/04/Taller-de-Negociación-Cámara-de-Comercio-de-Murcia-800X6001.jpg
ORGANIZER;CN="C%C3%A1mara%20de%20Comercio%20de%20Murcia%20%7C%20Formaci%C3%B3n%20Ejecutiva%20%7C%20Andr%C3%A9s%20Caballero":MAILTO:formacionejecutiva@camaramurcia.es
END:VEVENT
BEGIN:VEVENT
DTSTART;VALUE=DATE:20240318
DTEND;VALUE=DATE:20240419
DTSTAMP:20260422T004514
CREATED:20240322T114243Z
LAST-MODIFIED:20240415T143357Z
UID:59187-1710720000-1713484799@www.camaramurcia.es
SUMMARY:Oficina Acelera Pyme | Seminario | Factura electrónica: ventajas y obligaciones para tu empresa
DESCRIPTION:En el marco de la Oficina Acelera Pyme\, la Cámara de Comercio de Murcia le invita\, el próximo jueves 18 de abril\, a un seminario donde conocerá las ventajas y obligaciones\, según la legislación vigente\, para implantar la factura electrónica en su empresa. \nPodrá asistir de forma online en directo a través de la plataforma Zoom\, o de manera presencial en el espacio de Coworking Digital (miitUp – C/ Frutos Baeza\, 3 de la Cámara de Comercio de Murcia. \nMás información | Seminario | Factura electrónica: ventajas y obligaciones para tu empresa \n
URL:https://www.camaramurcia.es/evento/oficina-acelera-pyme-seminario-factura-electronica-ventajas-y-obligaciones-para-tu-empresa/
LOCATION:Oficina Acelera Pyme | Cámara de Comercio de Murcia\, Plaza de San Bartolomé\, nº 3\, Murcia\, Murcia\, 30004\, Spain
CATEGORIES:Agenda,Oficina Acelera Pyme
ATTACH;FMTTYPE=image/jpeg:https://www.camaramurcia.es/wp-content/uploads/2024/03/factura-electronica-camara-comercio-murcia-oficina-acelera-pyme4.jpg
ORGANIZER;CN="C%C3%A1mara%20de%20Comercio%20de%20Murcia%20%7C%20Oficina%20Acelera%20Pyme%20%7C%20Andr%C3%A9s%20Caballero":MAILTO:oficinaacelerapyme@camaramurcia.es
END:VEVENT
END:VCALENDAR