BEGIN:VCALENDAR
VERSION:2.0
PRODID:-//Cámara de Comercio de Murcia - ECPv4.8.2//NONSGML v1.0//EN
CALSCALE:GREGORIAN
METHOD:PUBLISH
X-WR-CALNAME:Cámara de Comercio de Murcia
X-ORIGINAL-URL:https://www.camaramurcia.es
X-WR-CALDESC:Eventos para Cámara de Comercio de Murcia
BEGIN:VEVENT
DTSTART;VALUE=DATE:20230517
DTEND;VALUE=DATE:20230722
DTSTAMP:20260423T064734
CREATED:20230518T080211Z
LAST-MODIFIED:20230717T113858Z
UID:51841-1684281600-1689983999@www.camaramurcia.es
SUMMARY:Feria Gulfood Manufacturing 2023
DESCRIPTION:Acción: FERIA Gulfood Manufacturing DUBAI. Plan de Promoción Exterior de la Región de Murcia \nOrganizador: Cámara Oficial de Comercio\, Industria\, Servicios y Navegación de Murcia \nFecha: Del 7 al 9 de noviembre de 2023 \nPlazo pre-inscripción: hasta el 21 de julio de 2023. \nSectores: Tecnología de envasado y procesado de alimentos y bebidas\, soluciones de envases y embalajes\, ingredientes y aromas \n¿Cuál es el objetivo? Establecer contactos comerciales con importadores\, distribuidores de maquinaria\, envases y embalajes; y con fabricantes de productos alimentarios\, así como de usuarios de ingredientes y aromas para su proceso productivo o comercialización. \nPor qué es interesante: La feria Gulfood Manufacturing es el principal evento de estos sectores en la zona y supone la puerta de entrada tanto a países árabes como africanos. En la pasada edición\, participaron 2168 expositores donde se dieron cita más de 46.000 compradores procedentes de 180 países distintos.\n \nCondiciones de Participación\n  \nTrámites y requisitos: Solicitar documentos de inscripción rellenando el formulario de pre-inscripción que verá a continuación. \nLa participación es susceptible de ser cofinanciada con fondos FEDER. En ese caso\, los costes serían: 3.600 € + IVA del coste de participación. \nPara la tramitación de la ayuda\, las empresas pymes interesadas en participar deberán presentar telemáticamente su solicitud en: http://www.institutofomentomurcia.com/infodirecto/  a partir del día siguiente a su publicación en el BORM y hasta 8 días hábiles después. \nSolicitar Documentos Inscripción a Lucia LopezNombre *  Empresa interesada en Feria Gulfood Manufacturing *  Correo electrónico *  Teléfono *      Acepto la política de privacidad  *   \n  \nPara más información: Lucía López. lucia.lopez@camaramurcia.es Teléfono 968 229417. http://www.camaramurcia.es – https://www.regiondemurciaexporta.com \n
URL:https://www.camaramurcia.es/evento/ext1-feria-gulfood-manufacturing-2023/
LOCATION:Dubai\, Dubai\, United Arab Emirates
CATEGORIES:Agenda,Exterior
ATTACH;FMTTYPE=image/png:https://www.camaramurcia.es/wp-content/uploads/2023/05/Feria-Gulfood-manufacturing-Dubai.png
ORGANIZER;CN="C%C3%A1mara%20Comercio%20Murcia%20-Comercio%20Exterior%20-%20Luc%C3%ADa%20L%C3%B3pez":MAILTO:lucia.lopez@camaramurcia.es
END:VEVENT
END:VCALENDAR