BEGIN:VCALENDAR
VERSION:2.0
PRODID:-//Cámara de Comercio de Murcia - ECPv4.8.2//NONSGML v1.0//EN
CALSCALE:GREGORIAN
METHOD:PUBLISH
X-WR-CALNAME:Cámara de Comercio de Murcia
X-ORIGINAL-URL:https://www.camaramurcia.es
X-WR-CALDESC:Eventos para Cámara de Comercio de Murcia
BEGIN:VEVENT
DTSTART;VALUE=DATE:20230101
DTEND;VALUE=DATE:20230523
DTSTAMP:20260425T165227
CREATED:20230510T151447Z
LAST-MODIFIED:20230519T062227Z
UID:51623-1672531200-1684799999@www.camaramurcia.es
SUMMARY:Curso | SOP\, la planificación de ventas y operaciones
DESCRIPTION:¡Últimos días de inscripción! \nEl próximo 22 y 29 de mayo\, la Cámara de Comercio de Murcia junto con ADL Logística organiza este curso sobre planificación de ventas y operaciones.\n \nEn esta formación le permitirá: \n\nconocer una visión integral de la demanda\, la oferta y los recursos disponibles en su empresa\nprever y anticipar las fluctuaciones de la demanda\, mejorando así la gestión de inventario\noptimizar los recursos de su empresa\, evitando excesos de capacidad y situaciones de falta de recursos\nmejorar su capacidad de respuesta\, identificado las desviaciones y aplicando las medidas correctivas oportunas\naumentar la rentabilidad de su empresa\, con consecuencia de una adecuada identificación de las necesidades\nreducir los costes operativos\, gracias a una planificación eficiente\naumentar el nivel de satisfacción de sus clientes\, con una mayor eficiencia en la entrega de sus productos\naprovechar distintas oportunidades comerciales y una mejor adaptación a los cambios del mercado\n\nA lo largo de esta formación aprenderá a crear un entorno colaborativo y dinámico de toda la cadena de suministro\, tanto el interfaz con los clientes/demanda como con los proveedores/aprovisionamiento. \nEsta formación es parcialmente bonificable a través de FUNDAE y se celebrará en dos jornadas de 5 horas de duración cada una. \nMás información | curso | SOP y la planificación de las operaciones \n
URL:https://www.camaramurcia.es/evento/curso-sop-y-la-planificacion-de-las-operaciones/
LOCATION:Cámara de Comercio de Murcia | Formación Ejecutiva\, Plaza de San Bartolomé\, número 3\, Murcia\, Murcia\, 30004\, Spain
CATEGORIES:Agenda,Formación Ejecutiva
ATTACH;FMTTYPE=image/jpeg:https://www.camaramurcia.es/wp-content/uploads/2023/05/sop-planificacion-operaciones-adl-logistica-operaciones.jpg
ORGANIZER;CN="C%C3%A1mara%20de%20Comercio%20de%20Murcia%20%7C%20Formaci%C3%B3n%20Ejecutiva%20%7C%20Andr%C3%A9s%20Caballero":MAILTO:formacionejecutiva@camaramurcia.es
END:VEVENT
BEGIN:VEVENT
DTSTART;VALUE=DATE:20230101
DTEND;VALUE=DATE:20230519
DTSTAMP:20260425T165227
CREATED:20230512T070621Z
LAST-MODIFIED:20230515T072658Z
UID:51658-1672531200-1684454399@www.camaramurcia.es
SUMMARY:Oficina Acelera Pyme | seminario | Aplicaciones de la Inteligencia Artificial en las pymes
DESCRIPTION:Este jueves 18 de mayo\, la Cámara de Comercio de Murcia le invita a este seminario sobre las distintas aplicaciones de la Inteligencia Artificial en pequeñas y medianas empresas.  \nComenzaremos explicando casos de éxito de aplicación de la Inteligencia Artificial en distintos sectores como automoción\, agricultura\, salud e industria. \nSe repasarán conceptos básicos de machine learning\, algoritmos supervisados\, no supervisados\, aprendizaje por refuerzo y aprendizaje profundo\, hasta mostrar ejemplos de los logros recientes en deep learning. \nSe explicará cómo afecta la implantación de estas tecnologías en: \n\nla ventaja competitiva y eficiencia operativa\npersonalización y mejora de la experiencia del cliente\ninnovación y nuevas vías de negocio\noptimización de las operaciones\nmejora en la toma de decisiones basadas en datos\n\nDurante el seminario también se mostrarán aplicaciones de IA conversaciones; y avanzados modelos masivos de lenguaje como ChatGPT. \nPor último se expondrán los retos y barreras para la adopción de la IA en las pymes. \nA este evento\, organizado por la Oficina Acelera Pyme de la Cámara de Comercio de Murcia\, podrá asistir de forma presencial\, en la 4ª planta de la Cámara de Comercio de Murcia\, o seguirlo online en directo\, vía Zoom previa inscripción. \nMás información e inscripción | Aplicaciones de la Inteligencia Artificial en las pymes \n
URL:https://www.camaramurcia.es/evento/oficina-acelera-pyme-seminario-aplicaciones-inteligencia-artificial-pymes/
LOCATION:Cámara de Comercio de Murcia | Formación Ejecutiva\, Plaza de San Bartolomé\, número 3\, Murcia\, Murcia\, 30004\, Spain
CATEGORIES:Agenda,Formación Ejecutiva,Oficina Acelera Pyme
ATTACH;FMTTYPE=image/jpeg:https://www.camaramurcia.es/wp-content/uploads/2023/05/Oficina-Acelera-Pyme-Aplicaciones-de-la-IA-en-las-pymes-800x600.jpg
ORGANIZER;CN="C%C3%A1mara%20de%20Comercio%20de%20Murcia%20%7C%20Formaci%C3%B3n%20Ejecutiva%20%7C%20Andr%C3%A9s%20Caballero":MAILTO:formacionejecutiva@camaramurcia.es
END:VEVENT
BEGIN:VEVENT
DTSTART;TZID=UTC+1:20230101T180000
DTEND;TZID=UTC+1:20230525T200000
DTSTAMP:20260425T165227
CREATED:20230515T110859Z
LAST-MODIFIED:20230516T120129Z
UID:51703-1672596000-1685044800@www.camaramurcia.es
SUMMARY:Jornada: “Retos en el crecimiento y globalización de la empresa murciana”
DESCRIPTION:El próximo jueves\, 25 de mayo de 2023\, la Cámara de Comercio de Murcia tiene el placer de invitarle a la jornada organizada en colaboración con la Firma de Abogados Internacional Squire Patton Boggs. \nEn el evento que se celebrará en la sede de la Cámara\, de 6 a 8 p.m.\, los socios de Squire Patton Boggs abordarán las siguiente cuestiones: \nRocío García | Socia de Mercantil: Procesos de inversión. Adquisición y venta de empresas. \nIntervención sobre temas relativos a los procesos de inversión como las perspectivas de inversiones mayoritarias o minoritarias\, la importancia de los pactos de socios\, cómo y qué controlar y cómo no perder el control de la compañía tras la inversión. Asimismo\, se presentarám las cuestiones más problemáticas en la negociación de la compra o venta de empresas\, cómo se balancea el riesgo entre el comprador y el vendedor\, la importancia de las cláusulas de valoración y precio y las estructuras de pago\, el régimen de responsabilidad mediante manifestaciones y garantías del vendedor y las limitaciones a la responsabilidad\, los procesos de relevo generacional y los periodos de transición tras una venta. \nJosé Aguilar-Shea | Socio de Fiscal: Planificación fiscal\, operaciones de reorganización e internacionalización. \nIntervención sobre las cuestiones fiscales a tener en cuenta en la expansión e internacionalización de los negocios\, tales como la repatriación de beneficios\, reorganizaciones intragrupo\, estrategias de desinversión\, limitación a la deducibilidad de intereses o el aprovechamiento de ventajas fiscales. \nJosé María Viñals | Socio de Comercio Internacional y Sanciones: Protección de inversiones en el exterior\, Comercio internacional y sanciones. \nIntervención sobre los aspectos fundamentales de comercio exterior\, control de exportaciones\, protección de inversiones españolas en el exterior y sanciones\, en un contexto de alta volatilidad geopolítica y cambio en las Relaciones Internacionales. Identificar\, valorar y mitigar estos riesgos regulatorios y geopolíticos se ha convertido en una prioridad para las empresas españolas\, cada vez más globalizadas y dependientes de cadenas de suministro cada vez más complejas. \nAl término se servirá un vino español \n  \nPara más información: Sonia de Zunzunegui+34 91 426 4851 \n  \nreserva de plaza \n
URL:https://www.camaramurcia.es/evento/jornada-retos-en-el-crecimiento-y-globalizacion-de-la-empresa-murciana/
LOCATION:Cámara de Comerciode Murcia\, Plaza de San Bartolomé\, número 3\, Murcia\, Murcia\, 30004\, Spain
CATEGORIES:Agenda
ATTACH;FMTTYPE=image/jpeg:https://www.camaramurcia.es/wp-content/uploads/2023/05/COMEXT-jornada-retos-crecimiento-globalizacion-empresas-murcia-1.jpg
END:VEVENT
END:VCALENDAR