BEGIN:VCALENDAR
VERSION:2.0
PRODID:-//Cámara de Comercio de Murcia - ECPv4.8.2//NONSGML v1.0//EN
CALSCALE:GREGORIAN
METHOD:PUBLISH
X-WR-CALNAME:Cámara de Comercio de Murcia
X-ORIGINAL-URL:https://www.camaramurcia.es
X-WR-CALDESC:Eventos para Cámara de Comercio de Murcia
BEGIN:VEVENT
DTSTART;VALUE=DATE:20250405
DTEND;VALUE=DATE:20250515
DTSTAMP:20260423T150951
CREATED:20250509T111756Z
LAST-MODIFIED:20250512T070834Z
UID:68412-1743811200-1747267199@www.camaramurcia.es
SUMMARY:Pyme Innova | Innovación en la captación de clientes y automatización
DESCRIPTION:El miércoles 14 de mayo\, desde Cámara de Comercio de Murcia en el marco del Programa de Ayudas de Pyme Innova\, le invitamos a participar en esta jornada donde le permitirá innovar en los procesos para captar y fidelizar clientes y cómo hacer automatización de email haciendo más eficiente y atractivo su proceso de ventas. \nCONTENIDO \nInbound Marketing | Cómo transformar visitas a tu página web en oportunidades de venta \n\nInbound Marketing. ¿Qué es y en qué puede ayudarte?\nLos 5 pilares para poner en marcha una estrategia de Inbound Marketing\nDefine tu cliente: Buyer persona\nConoce su recorrido de compra: Buyer’s journey\nEstrategia de contenidos enfocada a Inbound Marketing\nCómo hacer una auditoría básica de contenido en tu empresa\nQué son los lead magnets\nAdapta la web de tu empresa para una mayor conversión\nLlamadas a la acción (CTA’s) y formularios de conversión\nLead scoring y lead nurturing\nCasos de éxito\n\nAutomatiza tus emails para optimizar tus ventas \n\n¿Qué es el email marketing?\nIntroducción al Email Marketing Automatizado\nTipos de automatización en Email Marketing\nHerramientas de automatización de email marketing\nCreación de un flujo automatizado\nMejores prácticas en email marketing automatizado\nAnálisis y optimización de campañas\nCasos de éxito\n\n\n\n\n\n\n\n\n\n\n\n\n\n\n\n\n\n\n\n\n\nPodrá asistir de forma presencial\, en la Cámara de Comercio de Murcia (Salón de Plenos – 4ª planta); o seguirlo online en directo a través de Zoom\, previa inscripción. \ninscripción | Innovación en la captación de clientes y automatización| Pyme Innova \nmás información | Innovación en la captación de clientes y automatización | Pyme Innova \n
URL:https://www.camaramurcia.es/evento/pyme-innova-innovacion-en-la-captacion-de-clientes-y-automatizacion/
LOCATION:Cámara de Comercio de Murcia\, Plaza de San Bartolomé\, 3\, Murcia\, Murcia\, 30004\, Spain
CATEGORIES:Agenda
ATTACH;FMTTYPE=image/jpeg:https://www.camaramurcia.es/wp-content/uploads/2025/05/pyme-innova-seminariowebinar-innovacion-captacion-clientes-automatizacion.jpg
END:VEVENT
BEGIN:VEVENT
DTSTART;VALUE=DATE:20250406
DTEND;VALUE=DATE:20250410
DTSTAMP:20260423T150951
CREATED:20250407T103917Z
LAST-MODIFIED:20250407T112220Z
UID:67587-1743897600-1744243199@www.camaramurcia.es
SUMMARY:Oficina Acelera Pyme | Inteligencia Artificial potenciando la gestión comercial  | Kit Digital
DESCRIPTION:El jueves 10 de abril\, desde Cámara de Comercio de Murcia en el marco de la Oficina Acelera Pyme\, le invitamos a participar en un seminario donde conocerá cómo puede potenciar su gestión comercial con la ayuda de la Inteligencia Artificial\, poniéndose al día con los retos que van surgiendo hoy en día y cómo conseguir esa transformación digital en la función comercial. \nCONTENIDO \n\nEl Nuevo Paradigma Comercial\nDe la intuición a los datos: la evolución de la función comercial\nLos retos actuales en la gestión comercial\nEl CRM como piedra angular de la digitalización comercial\nCómo la IA potencia la gestión comercial\nLa urgencia de la transformación digital\, CRM first\nCómo empezar: primeros pasos hacia la integración de IA en la función comercial\nLa importancia de la persona\, la IH\nConclusión: Adaptarse o quedar atrás\nCasos de Éxito\nQ&A\nConclusión y llamado a la acción\n\nPodrá asistir de forma presencial\, en la Cámara de Comercio de Murcia; o seguirlo online en directo a través de Zoom\, previa inscripción. \ninscripción | Inteligencia Artificial en la gestión comercial| Kit Digital \nmás información | Inteligencia Artificial en la gestión comercial | Kit Digital \n
URL:https://www.camaramurcia.es/evento/oficina-acelera-pyme-inteligencia-artificial-potenciando-la-gestion-comercial-kit-digital/
LOCATION:Oficina Acelera Pyme | Cámara de Comercio de Murcia\, Plaza de San Bartolomé\, nº 3\, Murcia\, Murcia\, 30004\, Spain
CATEGORIES:Agenda,Oficina Acelera Pyme
ATTACH;FMTTYPE=image/jpeg:https://www.camaramurcia.es/wp-content/uploads/2025/04/seminariowebinar-Inteligencia-artificial-gestion-comercial-Camara-Comercio-Murcia-Oficina-Acelera-Pyme2.jpg
ORGANIZER;CN="C%C3%A1mara%20de%20Comercio%20de%20Murcia%20%7C%20Oficina%20Acelera%20Pyme%20%7C%20Andr%C3%A9s%20Caballero":MAILTO:oficinaacelerapyme@camaramurcia.es
END:VEVENT
BEGIN:VEVENT
DTSTART;VALUE=DATE:20250406
DTEND;VALUE=DATE:20250517
DTSTAMP:20260423T150951
CREATED:20250407T104449Z
LAST-MODIFIED:20250411T104102Z
UID:67598-1743897600-1747439999@www.camaramurcia.es
SUMMARY:Taller de negociación | Presencial | Formación Ejecutiva
DESCRIPTION:\nDesde el departamento de Formación Ejecutiva de la Cámara de Comercio de Murcia\, organizamos la 8ª edición del Taller de negociación con el que podrá mejorar sus habilidades y técnicas mediante el estudio de casos reales. \nSe celebrará los próximos 16 y 17 de mayo en el Centro de Formación de la Cámara de Comercio de Murcia. \nEste curso\, que tiene una duración de 10 horas\, es presencial y eminentemente práctico donde se trabajarán las distintas fases de negociación. \n\nAdemás\, es parcialmente bonificable a través de FUNDAE. \n\nMás información | Taller de negociación | presencial \n\n
URL:https://www.camaramurcia.es/evento/taller-de-negociacion-presencial-formacion-ejecutiva-3/
LOCATION:Cámara de Comercio de Murcia | Formación Ejecutiva\, Plaza de San Bartolomé\, número 3\, Murcia\, Murcia\, 30004\, Spain
CATEGORIES:Agenda,Formación Ejecutiva
ATTACH;FMTTYPE=image/jpeg:https://www.camaramurcia.es/wp-content/uploads/2025/04/Taller-de-Negociación-Cámara-de-Comercio-de-Murcia-20252.jpg
ORGANIZER;CN="C%C3%A1mara%20de%20Comercio%20de%20Murcia%20%7C%20Formaci%C3%B3n%20Ejecutiva%20%7C%20Andr%C3%A9s%20Caballero":MAILTO:formacionejecutiva@camaramurcia.es
END:VEVENT
BEGIN:VEVENT
DTSTART;VALUE=DATE:20250406
DTEND;VALUE=DATE:20250510
DTSTAMP:20260423T150951
CREATED:20250407T112153Z
LAST-MODIFIED:20250411T104930Z
UID:67613-1743897600-1746835199@www.camaramurcia.es
SUMMARY:Curso | Impulsa tus ventas en Linkedin con ChatGPT
DESCRIPTION:Debido al éxito que sigue teniendo el curso de Impulsa tus ventas en Linkedin con ChatGPT\, la Cámara de Comercio de Murcia\, celebra una séptima edición de esta formación con el fin de poder enfrentarnos a estos nuevos cambios que van surgiendo con la inteligencia artificial. \nEn este curso intensivo de 12 horas\, que celebraremos online en directo y\, además\, es parcialmente bonificable a través de FUNDAE\, conocerá como vender más en Linkedin usando ChatGPT. \nDesarrollará estrategias más efectivas para generar negocio en Linkedin\, partiendo de los pilares fundamentales para construir una presencia sólida hasta la creación de una red de calidad y la generación de contenido de valor. \nA lo largo 4 sesiones\, descubrirá cómo utilizar ChatGPT de manera efectiva para generar prompts que potencien las ventas\, así como crear propuestas de valor que destaquen entre la competencia. \nConocerá técnicas avanzadas de análisis de datos y el uso estratégico de herramientas específicas (Sales Navigator\, Waalaxy) y además mejorará en la preparación de reuniones \, el cierre de ventas y superará cualquier objeción con confianza\, gracias a la asistencia de ChatGPT. \nSe celebrará los próximos 9\, 16\, 23 y 30 de mayo de 2025\, y es parcialmente bonificable a través de FUNDAE.\n \nMás información | Impulsas tus ventas en Linkedin con ChatGPT \n
URL:https://www.camaramurcia.es/evento/curso-impulsa-tus-ventas-en-linkedin-con-chatgpt/
LOCATION:Cámara de Comercio de Murcia | Formación Ejecutiva\, Plaza de San Bartolomé\, número 3\, Murcia\, Murcia\, 30004\, Spain
CATEGORIES:Agenda,Formación Ejecutiva
ATTACH;FMTTYPE=image/jpeg:https://www.camaramurcia.es/wp-content/uploads/2025/04/curso-ventas-linkedin-chatGPT-camara-comercio-murcia-séptima-edición2.jpg
ORGANIZER;CN="C%C3%A1mara%20de%20Comercio%20de%20Murcia%20%7C%20Formaci%C3%B3n%20Ejecutiva%20%7C%20Andr%C3%A9s%20Caballero":MAILTO:formacionejecutiva@camaramurcia.es
END:VEVENT
BEGIN:VEVENT
DTSTART;VALUE=DATE:20250406
DTEND;VALUE=DATE:20250516
DTSTAMP:20260423T150951
CREATED:20250416T095538Z
LAST-MODIFIED:20250416T095641Z
UID:67908-1743897600-1747353599@www.camaramurcia.es
SUMMARY:Curso | Gestión y reducción de costes en el transporte (edición 2025)
DESCRIPTION:Los próximos días 15\, 22 y 29 de mayo\, la Cámara de Comercio de Murcia organiza una nueva edición de este curso. \nEl coste del transporte tiene un porcentaje muy diferente en el precio final del producto dependiendo de múltiples factores. \nPartiendo de los conceptos básicos de la contabilidad de costes logísticos\, en este curso conocerá como reducir los costes de transporte en su empresa aplicando: \n\nlas mejores técnicas para la reducción de costes por negociación\nlas mejores técnicas para la reducción de costes por cambio operativo\n\nPodrá asistir de forma presencial\, en el Centro de Formación de la Cámara de Comercio de Murcia o seguirlo online en directo a través de la plataforma Zoom. \nAdemás\, este curso es parcialmente bonificable a través de FUNDAE. \nparcialmente bonificable\npresencial+online en directo \nMás información | curso | Reducción de costes de transporte \n
URL:https://www.camaramurcia.es/evento/curso-gestion-y-reduccion-de-costes-en-el-transporte-edicion-2025/
LOCATION:Cámara de Comercio de Murcia | Formación Ejecutiva\, Plaza de San Bartolomé\, número 3\, Murcia\, Murcia\, 30004\, Spain
CATEGORIES:Agenda,Formación Ejecutiva
ATTACH;FMTTYPE=image/jpeg:https://www.camaramurcia.es/wp-content/uploads/2025/04/curso-gestion-reduccion-costes-transporte-inteligencia-artificial-camara-comercio-murcia1.jpg
ORGANIZER;CN="C%C3%A1mara%20de%20Comercio%20de%20Murcia%20%7C%20Formaci%C3%B3n%20Ejecutiva%20%7C%20Andr%C3%A9s%20Caballero":MAILTO:formacionejecutiva@camaramurcia.es
END:VEVENT
END:VCALENDAR